BEGIN:VCALENDAR
VERSION:2.0
PRODID:-//ChamberMaster//Event Calendar 2.0//EN
METHOD:PUBLISH
X-PUBLISHED-TTL:P3D
REFRESH-INTERVAL:P3D
CALSCALE:GREGORIAN
BEGIN:VEVENT
DTSTART:20261113T013000Z
DTEND:20261113T030000Z
X-MICROSOFT-CDO-ALLDAYEVENT:FALSE
SUMMARY:11/12/2026 Business After Hours Joint Mixer @ Save the Date
DESCRIPTION:
X-ALT-DESC;FMTTYPE=text/html:
LOCATION:
UID:e.1602.11964
SEQUENCE:3
DTSTAMP:20260423T203004Z
URL:http://fairfieldsuisunchamber-gzcms.preview.gochambermaster.com/events/details/11-12-2026-business-after-hours-joint-mixer-save-the-date-11964
END:VEVENT

END:VCALENDAR
